BEGIN:VCALENDAR
VERSION:2.0
PRODID:-//Alma sonora - ECPv6.15.20//NONSGML v1.0//EN
CALSCALE:GREGORIAN
METHOD:PUBLISH
X-ORIGINAL-URL:https://almasonora.es
X-WR-CALDESC:Eventos para Alma sonora
REFRESH-INTERVAL;VALUE=DURATION:PT1H
X-Robots-Tag:noindex
X-PUBLISHED-TTL:PT1H
BEGIN:VTIMEZONE
TZID:Europe/Madrid
BEGIN:DAYLIGHT
TZOFFSETFROM:+0100
TZOFFSETTO:+0200
TZNAME:CEST
DTSTART:20250330T010000
END:DAYLIGHT
BEGIN:STANDARD
TZOFFSETFROM:+0200
TZOFFSETTO:+0100
TZNAME:CET
DTSTART:20251026T010000
END:STANDARD
BEGIN:DAYLIGHT
TZOFFSETFROM:+0100
TZOFFSETTO:+0200
TZNAME:CEST
DTSTART:20260329T010000
END:DAYLIGHT
BEGIN:STANDARD
TZOFFSETFROM:+0200
TZOFFSETTO:+0100
TZNAME:CET
DTSTART:20261025T010000
END:STANDARD
BEGIN:DAYLIGHT
TZOFFSETFROM:+0100
TZOFFSETTO:+0200
TZNAME:CEST
DTSTART:20270328T010000
END:DAYLIGHT
BEGIN:STANDARD
TZOFFSETFROM:+0200
TZOFFSETTO:+0100
TZNAME:CET
DTSTART:20271031T010000
END:STANDARD
END:VTIMEZONE
BEGIN:VEVENT
DTSTART;TZID=Europe/Madrid:20260531T190000
DTEND;TZID=Europe/Madrid:20260531T210000
DTSTAMP:20260424T104427
CREATED:20260130T002223Z
LAST-MODIFIED:20260130T002227Z
UID:4750-1780254000-1780261200@almasonora.es
SUMMARY:VIAJE SONORO LA ALBERCA-MURCIA\, SANTIAGO 10
DESCRIPTION:RESERVAS 650 961 087
URL:https://almasonora.es/evento/viaje-sonoro-la-alberca-murcia-santiago-10/
END:VEVENT
END:VCALENDAR